BEGIN:VCALENDAR
VERSION:2.0
PRODID:-//Google Inc//Google Calendar 70.9054//EN
X-WR-CALNAME:Head of Music
BEGIN:VEVENT
UID:91eea92977f259c4e8a47929c4f4eff3
DTSTART:20260504T230000Z
DTEND:20260505T000000Z
SUMMARY:Head of Music
DESCRIPTION:
END:VEVENT
END:VCALENDAR