BEGIN:VCALENDAR
VERSION:2.0
PRODID:-//Google Inc//Google Calendar 70.9054//EN
X-WR-CALNAME:Head of PE 
BEGIN:VEVENT
UID:ec136b065a1e700ee56d05df127d6157
DTSTART:20260504T230000Z
DTEND:20260505T000000Z
SUMMARY:Head of PE 
DESCRIPTION:
END:VEVENT
END:VCALENDAR