BEGIN:VCALENDAR
VERSION:2.0
PRODID:-//Google Inc//Google Calendar 70.9054//EN
X-WR-CALNAME:Head of STEM
BEGIN:VEVENT
UID:6b7c8d99c57812158f0fbafa88f11775
DTSTART:20260504T230000Z
DTEND:20260505T000000Z
SUMMARY:Head of STEM
DESCRIPTION:
END:VEVENT
END:VCALENDAR