BEGIN:VCALENDAR
VERSION:2.0
PRODID:-//Google Inc//Google Calendar 70.9054//EN
X-WR-CALNAME:Art Teacher
BEGIN:VEVENT
UID:70457c7ff0308cb3a5c72a0888995a94
DTSTART:20260524T230000Z
DTEND:20260525T000000Z
SUMMARY:Art Teacher
DESCRIPTION:
END:VEVENT
END:VCALENDAR