BEGIN:VCALENDAR
VERSION:2.0
PRODID:-//Google Inc//Google Calendar 70.9054//EN
X-WR-CALNAME:EAL Teacher
BEGIN:VEVENT
UID:c7ee461147f44e20541b1b19d95aa0c8
DTSTART:20260524T230000Z
DTEND:20260525T000000Z
SUMMARY:EAL Teacher
DESCRIPTION:
END:VEVENT
END:VCALENDAR