BEGIN:VCALENDAR
VERSION:2.0
PRODID:-//Google Inc//Google Calendar 70.9054//EN
X-WR-CALNAME:Learning Strategies 
BEGIN:VEVENT
UID:6d00457b9128f1bc5324e2c85de4aaad
DTSTART:20260524T230000Z
DTEND:20260525T000000Z
SUMMARY:Learning Strategies 
DESCRIPTION:
END:VEVENT
END:VCALENDAR