BEGIN:VCALENDAR
VERSION:2.0
PRODID:-//Google Inc//Google Calendar 70.9054//EN
X-WR-CALNAME:Librarian
BEGIN:VEVENT
UID:8478a0a278eb1f49289ad59cc9d61970
DTSTART:20260524T230000Z
DTEND:20260525T000000Z
SUMMARY:Librarian
DESCRIPTION:
END:VEVENT
END:VCALENDAR