BEGIN:VCALENDAR
VERSION:2.0
PRODID:-//Google Inc//Google Calendar 70.9054//EN
X-WR-CALNAME:Performing Arts Teacher
BEGIN:VEVENT
UID:6aef2a7817b57c2ab6c0bdc3978db6df
DTSTART:20260524T230000Z
DTEND:20260525T000000Z
SUMMARY:Performing Arts Teacher
DESCRIPTION:
END:VEVENT
END:VCALENDAR