BEGIN:VCALENDAR
VERSION:2.0
PRODID:-//Google Inc//Google Calendar 70.9054//EN
X-WR-CALNAME:Co-Curricular Administrator
BEGIN:VEVENT
UID:b24a6c6cf0876e4c609206335386fa67
DTSTART:20260713T230000Z
DTEND:20260714T000000Z
SUMMARY:Co-Curricular Administrator
DESCRIPTION:
END:VEVENT
END:VCALENDAR