BEGIN:VCALENDAR
VERSION:2.0
PRODID:-//Google Inc//Google Calendar 70.9054//EN
X-WR-CALNAME:Counsellor
BEGIN:VEVENT
UID:6f99159eaf1a4b282fa60e62caabc7a1
DTSTART:20260713T230000Z
DTEND:20260714T000000Z
SUMMARY:Counsellor
DESCRIPTION:
END:VEVENT
END:VCALENDAR