BEGIN:VCALENDAR
VERSION:2.0
PRODID:-//Google Inc//Google Calendar 70.9054//EN
X-WR-CALNAME:Nurse
BEGIN:VEVENT
UID:2e183435f7dc41b8cd372c2189bc0de6
DTSTART:20260713T230000Z
DTEND:20260714T000000Z
SUMMARY:Nurse
DESCRIPTION:
END:VEVENT
END:VCALENDAR