BEGIN:VCALENDAR
VERSION:2.0
PRODID:-//Google Inc//Google Calendar 70.9054//EN
X-WR-CALNAME:Office Manager and Executive Assistant to Head of Campus
BEGIN:VEVENT
UID:605415b0965dd4aaa2732fcc45edabeb
DTSTART:20260713T230000Z
DTEND:20260714T000000Z
SUMMARY:Office Manager and Executive Assistant to Head of Campus
DESCRIPTION:
END:VEVENT
END:VCALENDAR