BEGIN:VCALENDAR
VERSION:2.0
PRODID:-//Google Inc//Google Calendar 70.9054//EN
X-WR-CALNAME:Receptionist
BEGIN:VEVENT
UID:aa65910eb350605602eb5cb818b578b1
DTSTART:20260713T230000Z
DTEND:20260714T000000Z
SUMMARY:Receptionist
DESCRIPTION:
END:VEVENT
END:VCALENDAR