BEGIN:VCALENDAR
VERSION:2.0
PRODID:-//Google Inc//Google Calendar 70.9054//EN
X-WR-CALNAME:Educational Assistants
BEGIN:VEVENT
UID:edac8fdefab5bf6c69d7d0b75bf0d25a
DTSTART:20260927T230000Z
DTEND:20260928T000000Z
SUMMARY:Educational Assistants
DESCRIPTION:
END:VEVENT
END:VCALENDAR