BEGIN:VCALENDAR
VERSION:2.0
PRODID:-//Google Inc//Google Calendar 70.9054//EN
X-WR-CALNAME:Learning Assistants
BEGIN:VEVENT
UID:07d77bc6cad65bea1d26e3ad9e184fde
DTSTART:20260927T230000Z
DTEND:20260928T000000Z
SUMMARY:Learning Assistants
DESCRIPTION:
END:VEVENT
END:VCALENDAR